BEGIN:VCALENDAR
VERSION:2.0
PRODID:-//Student Hub - ECPv6.15.20//NONSGML v1.0//EN
CALSCALE:GREGORIAN
METHOD:PUBLISH
X-WR-CALNAME:Student Hub
X-ORIGINAL-URL:https://studenthub.cambria.ac.uk
X-WR-CALDESC:Events for Student Hub
REFRESH-INTERVAL;VALUE=DURATION:PT1H
X-Robots-Tag:noindex
X-PUBLISHED-TTL:PT1H
BEGIN:VTIMEZONE
TZID:Europe/London
BEGIN:DAYLIGHT
TZOFFSETFROM:+0000
TZOFFSETTO:+0100
TZNAME:BST
DTSTART:20250330T010000
END:DAYLIGHT
BEGIN:STANDARD
TZOFFSETFROM:+0100
TZOFFSETTO:+0000
TZNAME:GMT
DTSTART:20251026T010000
END:STANDARD
BEGIN:DAYLIGHT
TZOFFSETFROM:+0000
TZOFFSETTO:+0100
TZNAME:BST
DTSTART:20260329T010000
END:DAYLIGHT
BEGIN:STANDARD
TZOFFSETFROM:+0100
TZOFFSETTO:+0000
TZNAME:GMT
DTSTART:20261025T010000
END:STANDARD
BEGIN:DAYLIGHT
TZOFFSETFROM:+0000
TZOFFSETTO:+0100
TZNAME:BST
DTSTART:20270328T010000
END:DAYLIGHT
BEGIN:STANDARD
TZOFFSETFROM:+0100
TZOFFSETTO:+0000
TZNAME:GMT
DTSTART:20271031T010000
END:STANDARD
END:VTIMEZONE
BEGIN:VEVENT
DTSTART;VALUE=DATE:20260212
DTEND;VALUE=DATE:20260213
DTSTAMP:20260422T020828
CREATED:20251124T161625Z
LAST-MODIFIED:20251216T161126Z
UID:8357-1770854400-1770940799@studenthub.cambria.ac.uk
SUMMARY:Meet the Employer Event - Deeside
DESCRIPTION:
URL:https://studenthub.cambria.ac.uk/event/meet-the-employer-event-deeside/
LOCATION:Deeside\, Kelsterton Road\, Connah’s Quay\, Deeside\, Flintshire\, CH5 4BR\, United Kingdom
CATEGORIES:Employer Engagement
ORGANIZER;CN="Employer Engagement":MAILTO:employers@cambria.ac.uk
END:VEVENT
BEGIN:VEVENT
DTSTART;VALUE=DATE:20260210
DTEND;VALUE=DATE:20260211
DTSTAMP:20260422T020828
CREATED:20251124T161501Z
LAST-MODIFIED:20251216T161148Z
UID:8351-1770681600-1770767999@studenthub.cambria.ac.uk
SUMMARY:Meet the Employer Event - Bersham Road
DESCRIPTION:
URL:https://studenthub.cambria.ac.uk/event/meet-the-employer-event-bersham/
LOCATION:Bersham Road\, Bersham Road\, Wrexham\, Wrexham\, LL13 7UH\, United Kingdom
CATEGORIES:Employer Engagement
ORGANIZER;CN="Employer Engagement":MAILTO:employers@cambria.ac.uk
END:VEVENT
END:VCALENDAR